BEGIN:VCALENDAR
VERSION:2.0
PRODID:-//ОМДН//Events//RU
CALSCALE:GREGORIAN
METHOD:PUBLISH
BEGIN:VTIMEZONE
TZID:Asia/Yekaterinburg
BEGIN:DAYLIGHT
TZOFFSETFROM:+0500
TZOFFSETTO:+0600
DTSTART:19700329T020000
RRULE:FREQ=YEARLY;BYMONTH=3;BYDAY=-1SU
TZNAME:YEKT
END:DAYLIGHT
BEGIN:STANDARD
TZOFFSETFROM:+0600
TZOFFSETTO:+0500
DTSTART:19701025T030000
RRULE:FREQ=YEARLY;BYMONTH=10;BYDAY=-1SU
TZNAME:YEKT
END:STANDARD
END:VTIMEZONE
BEGIN:VEVENT
SUMMARY:Премьера спектакля по мотивам сказки Сергея Аксакова «Аленький цветочек»
DTSTART;TZID=Asia/Yekaterinburg:20260425T160000
DTEND;TZID=Asia/Yekaterinburg:20260425T160000
LOCATION:Студенческий театр «Синяя птица», ул. Ленинская, 25/1
DESCRIPTION:Событие от проекта «от мёртвого до нескучного» — подборка интересных мероприятий в Оренбурге.

Подробности: https://xn--d1apeb.xn--p1ai/events/premera-spektaklia-po-motivam-skazki-sergeia-aksakova-alenkii-tsvetochek/calendar.ics
URL:https://orenburg.kassir.ru/teatr/alenkiy-tsvetochek-spektakl-motivam-skazki-sergeya-aksakova
END:VEVENT
END:VCALENDAR